BEGIN:VCALENDAR
VERSION:2.0
PRODID:-//Aigondigné - ECPv4.9.14//NONSGML v1.0//EN
CALSCALE:GREGORIAN
METHOD:PUBLISH
X-WR-CALNAME:Aigondigné
X-ORIGINAL-URL:https://www.aigondigne.fr
X-WR-CALDESC:Évènements pour Aigondigné
BEGIN:VTIMEZONE
TZID:Europe/Paris
BEGIN:DAYLIGHT
TZOFFSETFROM:+0100
TZOFFSETTO:+0200
TZNAME:CEST
DTSTART:20220327T010000
END:DAYLIGHT
BEGIN:STANDARD
TZOFFSETFROM:+0200
TZOFFSETTO:+0100
TZNAME:CET
DTSTART:20221030T010000
END:STANDARD
END:VTIMEZONE
BEGIN:VEVENT
DTSTART;TZID=Europe/Paris:20220520T190000
DTEND;TZID=Europe/Paris:20220520T220000
DTSTAMP:20260421T133925
CREATED:20220506T123222Z
LAST-MODIFIED:20220506T123222Z
UID:10657-1653073200-1653084000@www.aigondigne.fr
SUMMARY:La fête des voisins
DESCRIPTION:C’est l’occasion de faire connaissance avec vos voisins\, de partager un moment de convivialité et de développer la solidarité de proximité. \nPour plus d’information : CLIQUEZ ICI \n  \n  \n
URL:https://www.aigondigne.fr/evenement/la-fete-des-voisins/
LOCATION:Aigondigné\, Aigondigné\, 79370\, France
ORGANIZER;CN="La%20f%C3%AAte%20des%20voisins":MAILTO:info@immeublesenfete.com
END:VEVENT
END:VCALENDAR