BEGIN:VCALENDAR
VERSION:2.0
PRODID:-//Aigondigné - ECPv4.9.14//NONSGML v1.0//EN
CALSCALE:GREGORIAN
METHOD:PUBLISH
X-WR-CALNAME:Aigondigné
X-ORIGINAL-URL:https://www.aigondigne.fr
X-WR-CALDESC:Évènements pour Aigondigné
BEGIN:VTIMEZONE
TZID:Europe/Paris
BEGIN:DAYLIGHT
TZOFFSETFROM:+0100
TZOFFSETTO:+0200
TZNAME:CEST
DTSTART:20200329T010000
END:DAYLIGHT
BEGIN:STANDARD
TZOFFSETFROM:+0200
TZOFFSETTO:+0100
TZNAME:CET
DTSTART:20201025T010000
END:STANDARD
END:VTIMEZONE
BEGIN:VEVENT
DTSTART;TZID=Europe/Paris:20201010T093000
DTEND;TZID=Europe/Paris:20201010T120000
DTSTAMP:20260423T105139
CREATED:20200717T073636Z
LAST-MODIFIED:20201006T101620Z
UID:3891-1602322200-1602331200@www.aigondigne.fr
SUMMARY:Le sol de mon jardin
DESCRIPTION: \nQuelques tests simples et plantes bio-indicatives peuvent vous en apprendre sur votre jardin ! La nature de son sol\, ses besoins\, les plantes qu’il est possible d’y cultiver… Venez les découvrir ! \nLes places étant limitées\, l’inscription est obligatoire. \nLes lieux de rendez-vous vous seront précisés lors de l’inscription. \nAnimateur : Ateliers de la Simplicité \nInscription auprès de Niort Agglo\, service des Eaux du Vivier : 05 49 78 76 28 \n
URL:https://www.aigondigne.fr/evenement/le-sol-de-mon-jardin/
ATTACH;FMTTYPE=image/jpeg:https://www.aigondigne.fr/wp-content/uploads/2020/07/gardening-4931739_1920.jpg
END:VEVENT
END:VCALENDAR