BEGIN:VCALENDAR
VERSION:2.0
PRODID:-//Aigondigné - ECPv4.9.14//NONSGML v1.0//EN
CALSCALE:GREGORIAN
METHOD:PUBLISH
X-WR-CALNAME:Aigondigné
X-ORIGINAL-URL:https://www.aigondigne.fr
X-WR-CALDESC:Évènements pour Aigondigné
BEGIN:VTIMEZONE
TZID:Europe/Paris
BEGIN:DAYLIGHT
TZOFFSETFROM:+0100
TZOFFSETTO:+0200
TZNAME:CEST
DTSTART:20260329T010000
END:DAYLIGHT
BEGIN:STANDARD
TZOFFSETFROM:+0200
TZOFFSETTO:+0100
TZNAME:CET
DTSTART:20261025T010000
END:STANDARD
END:VTIMEZONE
BEGIN:VEVENT
DTSTART;TZID=Europe/Paris:20260116T200000
DTEND;TZID=Europe/Paris:20260116T213000
DTSTAMP:20260423T124924
CREATED:20251215T074237Z
LAST-MODIFIED:20251215T074237Z
UID:19547-1768593600-1768599000@www.aigondigne.fr
SUMMARY:L'R du Temps : Assemblée générale
DESCRIPTION:L’assemblée générale de l’association L’R du Temps se tiendra le 16 janvier 2026 à 20h à la MPT de Triou \n
URL:https://www.aigondigne.fr/evenement/lr-du-temps-assemblee-generale/
LOCATION:MPT de Triou\, Route des Piquerelles\, Aigondigné\, Sélectionner un État :\, 79370\, France
CATEGORIES:Assemblée générale/Réunion publique
ATTACH;FMTTYPE=image/jpeg:https://www.aigondigne.fr/wp-content/uploads/2025/12/597931833_122235326990130154_1575063400770825777_n.jpg
ORGANIZER;CN="assocition%20L%27R%20du%20Temps":MAILTO:lrdt.asso@gmail.com
END:VEVENT
END:VCALENDAR