BEGIN:VCALENDAR
VERSION:2.0
PRODID:-//Aigondigné - ECPv4.9.14//NONSGML v1.0//EN
CALSCALE:GREGORIAN
METHOD:PUBLISH
X-WR-CALNAME:Aigondigné
X-ORIGINAL-URL:https://www.aigondigne.fr
X-WR-CALDESC:Évènements pour Aigondigné
BEGIN:VTIMEZONE
TZID:Europe/Paris
BEGIN:DAYLIGHT
TZOFFSETFROM:+0100
TZOFFSETTO:+0200
TZNAME:CEST
DTSTART:20240331T010000
END:DAYLIGHT
BEGIN:STANDARD
TZOFFSETFROM:+0200
TZOFFSETTO:+0100
TZNAME:CET
DTSTART:20241027T010000
END:STANDARD
END:VTIMEZONE
BEGIN:VEVENT
DTSTART;TZID=Europe/Paris:20240406T090000
DTEND;TZID=Europe/Paris:20240406T120000
DTSTAMP:20260424T130027
CREATED:20240104T093619Z
LAST-MODIFIED:20240202T084338Z
UID:14627-1712394000-1712404800@www.aigondigne.fr
SUMMARY:L'R du temps : atelier réparation
DESCRIPTION:Atelier réparation : \nle samedi 6 avril 2024 à partir de 9h \nà la salle des fêtes d’Aigonnay \nLe prochain atelier réparations se déroulera le : \n\n4 mai – 9h-12h – salle des fêtes de Thorigné\n\nPour plus d’informations : lrdt.asso@gmail.com ou sur Facebook \n
URL:https://www.aigondigne.fr/evenement/lr-du-temps-atelier-reparation-2/
LOCATION:Salle des fêtes d’Aigonnay\, 2 route de Magné\, Aigondigné\, 79370\, France
CATEGORIES:Environnement,Solidarité
ATTACH;FMTTYPE=image/jpeg:https://www.aigondigne.fr/wp-content/uploads/2024/01/Affiche-2024-lR-du-Temps.jpg
ORGANIZER;CN="L%27R%20du%20temps":MAILTO:lrdt.asso@gmail.com
END:VEVENT
END:VCALENDAR