BEGIN:VCALENDAR
VERSION:2.0
PRODID:-//Aigondigné - ECPv4.9.14//NONSGML v1.0//EN
CALSCALE:GREGORIAN
METHOD:PUBLISH
X-WR-CALNAME:Aigondigné
X-ORIGINAL-URL:https://www.aigondigne.fr
X-WR-CALDESC:Évènements pour Aigondigné
BEGIN:VTIMEZONE
TZID:Europe/Paris
BEGIN:DAYLIGHT
TZOFFSETFROM:+0100
TZOFFSETTO:+0200
TZNAME:CEST
DTSTART:20210328T010000
END:DAYLIGHT
BEGIN:STANDARD
TZOFFSETFROM:+0200
TZOFFSETTO:+0100
TZNAME:CET
DTSTART:20211031T010000
END:STANDARD
END:VTIMEZONE
BEGIN:VEVENT
DTSTART;TZID=Europe/Paris:20210601T170000
DTEND;TZID=Europe/Paris:20210601T180000
DTSTAMP:20260424T114637
CREATED:20200820T130333Z
LAST-MODIFIED:20200820T130333Z
UID:4277-1622566800-1622570400@www.aigondigne.fr
SUMMARY:Ludothèque - Malle aux jeux
DESCRIPTION:La Ludothèque/Malle aux Jeux sera à la garderie de Thorigné de 17h à 18h le mardi 1er Juin 2021 \nAnimation gratuite – Découverte de jeux en tout genre. \nTéléchargez ici la plaquette de la Ludothèque \n
URL:https://www.aigondigne.fr/evenement/ludotheque-malle-aux-jeux-4/
LOCATION:Garderie de Thorigné\, 25 rue des écoles\, Thorigné\, Aigondigné\, 79370\, France
CATEGORIES:Evènement culturel
ORGANIZER;CN="Ludoth%C3%A8que%20Malle%20aux%20Jeux":MAILTO:ludotheque.celles@melloisenpoitou.fr
END:VEVENT
END:VCALENDAR