BEGIN:VCALENDAR
VERSION:2.0
PRODID:-//Aigondigné - ECPv4.9.14//NONSGML v1.0//EN
CALSCALE:GREGORIAN
METHOD:PUBLISH
X-WR-CALNAME:Aigondigné
X-ORIGINAL-URL:https://www.aigondigne.fr
X-WR-CALDESC:Évènements pour Aigondigné
BEGIN:VTIMEZONE
TZID:Europe/Paris
BEGIN:DAYLIGHT
TZOFFSETFROM:+0100
TZOFFSETTO:+0200
TZNAME:CEST
DTSTART:20260329T010000
END:DAYLIGHT
BEGIN:STANDARD
TZOFFSETFROM:+0200
TZOFFSETTO:+0100
TZNAME:CET
DTSTART:20261025T010000
END:STANDARD
END:VTIMEZONE
BEGIN:VEVENT
DTSTART;TZID=Europe/Paris:20260506T140000
DTEND;TZID=Europe/Paris:20260506T163000
DTSTAMP:20260421T203953
CREATED:20260420T122238Z
LAST-MODIFIED:20260420T122238Z
UID:20468-1778076000-1778085000@www.aigondigne.fr
SUMMARY:Mai à vélo
DESCRIPTION:Dans le cadre de l’opération « Mai à vélo »\, CIF-SP organise\, en lien avec la Communauté de communes\, des ateliers « remise en selle »  le Mercredi 6 MAI DE 14Hà 16H30.\nCes ateliers ont pour objectif d’accompagner les habitants dans la reprise du vélo\, en toute sécurité\, et de favoriser les mobilités du quotidien.\nIls se déroulent avec des vélos mécaniques et à assistance électrique\, afin de s’adapter aux différents besoins des participants. \nInformations et réservations auprès de CIF-SP : jessica.desmaris@cif-sp.org ou 06 25 86 38 51 \non bouge!!! (002) \nMaison des mobilités inclusive \n
URL:https://www.aigondigne.fr/evenement/mai-a-velo/
LOCATION:Place de la Gasse\, place de la gasse\, Mougon\, Aigondigné\, 79370\, France
CATEGORIES:Atelier
ATTACH;FMTTYPE=image/jpeg:https://www.aigondigne.fr/wp-content/uploads/2026/04/heybike-iSf0QIXFpSs-unsplash.jpg
ORGANIZER;CN="Association%20Cif-SP":MAILTO:bientraitance@cif-sp.org
END:VEVENT
END:VCALENDAR