BEGIN:VCALENDAR
VERSION:2.0
PRODID:-//Aigondigné - ECPv4.9.14//NONSGML v1.0//EN
CALSCALE:GREGORIAN
METHOD:PUBLISH
X-WR-CALNAME:Aigondigné
X-ORIGINAL-URL:https://www.aigondigne.fr
X-WR-CALDESC:Évènements pour Aigondigné
BEGIN:VTIMEZONE
TZID:Europe/Paris
BEGIN:DAYLIGHT
TZOFFSETFROM:+0100
TZOFFSETTO:+0200
TZNAME:CEST
DTSTART:20210328T010000
END:DAYLIGHT
BEGIN:STANDARD
TZOFFSETFROM:+0200
TZOFFSETTO:+0100
TZNAME:CET
DTSTART:20211031T010000
END:STANDARD
END:VTIMEZONE
BEGIN:VEVENT
DTSTART;TZID=Europe/Paris:20211210T170000
DTEND;TZID=Europe/Paris:20211210T210000
DTSTAMP:20260421T133925
CREATED:20211203T110457Z
LAST-MODIFIED:20211203T110457Z
UID:9296-1639155600-1639170000@www.aigondigne.fr
SUMMARY:Marché de Noël : APE Prailles Aigonnay
DESCRIPTION:L’APE de Prailles-Aigonnay vous propose un marché de Noël le vendredi 10 décembre à partir de 17h à la salle des fêtes d’Aigonnay : \n\nCréations des enfants\nJeux\nCrêpes\nArtisanat\nBuvette\nRestauration\n\nPass sanitaire et masques obligatoires \n  \n
URL:https://www.aigondigne.fr/evenement/marche-de-noel-ape-prailles-aigonnay/
LOCATION:Salle des fêtes d’Aigonnay\, 2 route de Magné\, Aigondigné\, 79370\, France
END:VEVENT
END:VCALENDAR