BEGIN:VCALENDAR
VERSION:2.0
PRODID:-//Aigondigné - ECPv4.9.14//NONSGML v1.0//EN
CALSCALE:GREGORIAN
METHOD:PUBLISH
X-WR-CALNAME:Aigondigné
X-ORIGINAL-URL:https://www.aigondigne.fr
X-WR-CALDESC:Évènements pour Aigondigné
BEGIN:VTIMEZONE
TZID:Europe/Paris
BEGIN:DAYLIGHT
TZOFFSETFROM:+0100
TZOFFSETTO:+0200
TZNAME:CEST
DTSTART:20230326T010000
END:DAYLIGHT
BEGIN:STANDARD
TZOFFSETFROM:+0200
TZOFFSETTO:+0100
TZNAME:CET
DTSTART:20231029T010000
END:STANDARD
END:VTIMEZONE
BEGIN:VEVENT
DTSTART;TZID=Europe/Paris:20230402T100000
DTEND;TZID=Europe/Paris:20230402T120000
DTSTAMP:20260419T125036
CREATED:20230324T071705Z
LAST-MODIFIED:20230324T072118Z
UID:12697-1680429600-1680436800@www.aigondigne.fr
SUMMARY:Matinée sportive
DESCRIPTION:Le foyer rural de Sainte Blandine vous propose des matinées sportives animées par Claire Lefebre \nles dimanches 02/04\, 23/04\, 21/05 et 25/06 \nde 10h à 12h au préau de Tauché \n1h de gym + 1h de zumba \ngratuit et ouvert à tous \n
URL:https://www.aigondigne.fr/evenement/matinee-sportive/
LOCATION:préau de Tauché\, 26 rue Jacques Bujault\, Tauché\, Aigondigné\, 79370\, France
CATEGORIES:Evenement sportif
ATTACH;FMTTYPE=image/jpeg:https://www.aigondigne.fr/wp-content/uploads/2023/03/Matinées-sportives-Tauché_19032023_page-0001.jpg
END:VEVENT
END:VCALENDAR