BEGIN:VCALENDAR
VERSION:2.0
PRODID:-//Aigondigné - ECPv4.9.14//NONSGML v1.0//EN
CALSCALE:GREGORIAN
METHOD:PUBLISH
X-WR-CALNAME:Aigondigné
X-ORIGINAL-URL:https://www.aigondigne.fr
X-WR-CALDESC:Évènements pour Aigondigné
BEGIN:VTIMEZONE
TZID:Europe/Paris
BEGIN:DAYLIGHT
TZOFFSETFROM:+0100
TZOFFSETTO:+0200
TZNAME:CEST
DTSTART:20210328T010000
END:DAYLIGHT
BEGIN:STANDARD
TZOFFSETFROM:+0200
TZOFFSETTO:+0100
TZNAME:CET
DTSTART:20211031T010000
END:STANDARD
END:VTIMEZONE
BEGIN:VEVENT
DTSTART;TZID=Europe/Paris:20210521T140000
DTEND;TZID=Europe/Paris:20210521T190000
DTSTAMP:20260424T083906
CREATED:20210507T130540Z
LAST-MODIFIED:20210507T130540Z
UID:7386-1621605600-1621623600@www.aigondigne.fr
SUMMARY:Opération de dépistage
DESCRIPTION:L’ ARS Nouvelle-Aquitaine et la Croix-Rouge\, en lien avec la Préfecture des Deux-Sèvres et la commune d’Aigondigné\, organisent une opération de dépistage Covid-19 gratuit et ouvert à tous : \nle vendredi 21 mai de 14h à 19h \nà la salle des fêtes de Thorigné \nPort du masque obligatoire – Pensez à amener avec vous votre carte vitale et une pièce d’identité. \n  \nPlus d’information sur le déroulement de cette opération de dépistage sur notre site : CLIQUEZ ICI \n
URL:https://www.aigondigne.fr/evenement/operation-de-depistage/
LOCATION:Salle des Fêtes de Thorigné\, Route de Fressines\, Thorigné\, Aigondigné\, 79370\, France
ORGANIZER;CN="Agence%20R%C3%A9gionale%20de%20Sant%C3%A9":MAILTO:ars-dd79-direction@ars.sante.fr
END:VEVENT
END:VCALENDAR