BEGIN:VCALENDAR
VERSION:2.0
PRODID:-//Aigondigné - ECPv4.9.14//NONSGML v1.0//EN
CALSCALE:GREGORIAN
METHOD:PUBLISH
X-WR-CALNAME:Aigondigné
X-ORIGINAL-URL:https://www.aigondigne.fr
X-WR-CALDESC:Évènements pour Aigondigné
BEGIN:VTIMEZONE
TZID:Europe/Paris
BEGIN:DAYLIGHT
TZOFFSETFROM:+0100
TZOFFSETTO:+0200
TZNAME:CEST
DTSTART:20240331T010000
END:DAYLIGHT
BEGIN:STANDARD
TZOFFSETFROM:+0200
TZOFFSETTO:+0100
TZNAME:CET
DTSTART:20241027T010000
END:STANDARD
END:VTIMEZONE
BEGIN:VEVENT
DTSTART;TZID=Europe/Paris:20240613T100000
DTEND;TZID=Europe/Paris:20240613T110000
DTSTAMP:20260422T013734
CREATED:20240405T091249Z
LAST-MODIFIED:20240604T115337Z
UID:15471-1718272800-1718276400@www.aigondigne.fr
SUMMARY:Ordinateur et internet : des ateliers pour être à l'aise au quotidien dans l'usage du numérique
DESCRIPTION:Pour aider celles et ceux qui souhaitent devenir plus autonomes dans l’utilisation de l’ordinateur et d’internet\, l’association La Bêta-Pi animera des ateliers en mai-juin 2024 à Aigondigné. \nIls se dérouleront les jeudis matin à la salle de la bibliothèque de Thorigné\, pendant 5 jeudis consécutifs. Il y a 2 niveaux\, en fonction de votre pratique : \n\nL’atelier Découverte – pour se rassurer et se familiariser avec la souris\, le clavier\, l’ordinateur et internet (débutants).\n\n\nL’atelier Intermédiaire – se repérer dans l’ordinateur\, naviguer sur internet en toute sécurité\, comprendre mon environnement numérique (personnes qui pratiquent déjà régulièrement).\n\nPas besoin d’apporter un ordinateur sauf si vous voulez travailler sur le vôtre. \nDates : réunion d’information le 2 mai à 10h à la bibliothèque de Thorigné\, puis les jeudis 16\, 23\, 30 mai\, 6 et 13 juin. \nInformations et inscriptions par téléphone : 06 68 32 84 44 \nTarif : Participation libre au choix entre 10€ à 70€ pour les 5 ateliers\, ou gratuité sur prescription (Pôle emploi\, Mission locale\, CCAS\, etc.) \nPour une demande d’accompagnement financier\, adressez-vous au CCAS\, partenaire de cette manifestation\, au 07 55 60 47 71 \nParlez-en à vos proches ! \n
URL:https://www.aigondigne.fr/evenement/ordinateur-et-internet-des-ateliers-pour-etre-a-laise-au-quotidien-dans-lusage-du-numerique-6/
LOCATION:Bibliothèque de Thorigné\, 25 rue de l'école\, Thorigné\, Aigondigné\, 79370\, France
CATEGORIES:Atelier
ATTACH;FMTTYPE=image/png:https://www.aigondigne.fr/wp-content/uploads/2024/04/Beta-pi.png
ORGANIZER;CN="La%20B%C3%AAta-Pi":MAILTO:info@labetapi.fr
END:VEVENT
END:VCALENDAR