BEGIN:VCALENDAR
VERSION:2.0
PRODID:-//Aigondigné - ECPv4.9.14//NONSGML v1.0//EN
CALSCALE:GREGORIAN
METHOD:PUBLISH
X-WR-CALNAME:Aigondigné
X-ORIGINAL-URL:https://www.aigondigne.fr
X-WR-CALDESC:Évènements pour Aigondigné
BEGIN:VTIMEZONE
TZID:Europe/Paris
BEGIN:DAYLIGHT
TZOFFSETFROM:+0100
TZOFFSETTO:+0200
TZNAME:CEST
DTSTART:20250330T010000
END:DAYLIGHT
BEGIN:STANDARD
TZOFFSETFROM:+0200
TZOFFSETTO:+0100
TZNAME:CET
DTSTART:20251026T010000
END:STANDARD
END:VTIMEZONE
BEGIN:VEVENT
DTSTART;VALUE=DATE:20250907
DTEND;VALUE=DATE:20250908
DTSTAMP:20260424T045839
CREATED:20250624T130839Z
LAST-MODIFIED:20250624T130839Z
UID:18087-1757203200-1757289599@www.aigondigne.fr
SUMMARY:Rallye pédestre + Pique nique
DESCRIPTION:Dimanche 7 septembre 2025 à Montaillon. \nOrganisé par l’AAVM \nPlus d’informations à venir. \n
URL:https://www.aigondigne.fr/evenement/rallye-pedestre-pique-nique/
LOCATION:Montaillon\, Montaillon\, Aigondigné\, 79370\, France
CATEGORIES:Evenement sportif
ATTACH;FMTTYPE=image/jpeg:https://www.aigondigne.fr/wp-content/uploads/2025/06/les-randonneurs-marchant-dans-un-sentier-entoure-de-collines-couvertes-de-verdure-sous-la-lumiere-du-soleil.jpg
END:VEVENT
END:VCALENDAR