BEGIN:VCALENDAR
VERSION:2.0
PRODID:-//Aigondigné - ECPv4.9.14//NONSGML v1.0//EN
CALSCALE:GREGORIAN
METHOD:PUBLISH
X-WR-CALNAME:Aigondigné
X-ORIGINAL-URL:https://www.aigondigne.fr
X-WR-CALDESC:Évènements pour Aigondigné
BEGIN:VTIMEZONE
TZID:Europe/Paris
BEGIN:DAYLIGHT
TZOFFSETFROM:+0100
TZOFFSETTO:+0200
TZNAME:CEST
DTSTART:20240331T010000
END:DAYLIGHT
BEGIN:STANDARD
TZOFFSETFROM:+0200
TZOFFSETTO:+0100
TZNAME:CET
DTSTART:20241027T010000
END:STANDARD
END:VTIMEZONE
BEGIN:VEVENT
DTSTART;TZID=Europe/Paris:20240307T143000
DTEND;TZID=Europe/Paris:20240307T173000
DTSTAMP:20260421T214335
CREATED:20240115T143340Z
LAST-MODIFIED:20240115T143443Z
UID:14791-1709821800-1709832600@www.aigondigne.fr
SUMMARY:Recherche d'emploi local avec l'AIPM et Siti Intérim
DESCRIPTION:Vous cherchez un emploi près de chez vous ? Venez rencontrer l’AIPM et Siti Intérim \nSur inscription par téléphone au 05 49 27 97 17 ou par email : secretariat@cbedumellois.fr \n\nJeudi 25 janvier de 14h30 à 17h30 à la salle du CBE (rue des Fusains 79500 Melle)\nJeudi 1e février de 14h30 à 17h30 à la salle de la Boutonnaise (20 place du Champ de Foire 79170 Brioux sur Boutonne)\nJeudi 15 février de 14h30 à 17h30 à la salle de la réunion (place du 8 mai 79370 Celles sur Belle)\nJeudi 7 mars de 14h30 à 17h30 à la mairie (7 avenue de l’hôtel de ville 79110 Chef-Boutonne)\nJeudi 14 mars de 14h30 à 17h30 à la salle du Grand Puits (2 ter place du Grand Puits 79190 Sauzé Vaussais)\nJeudi 21 mars de 14h30 à 17h30 à la salle polyvalente (Allée du camping 79120 Lezay)\nMardi 26 mars de 14h30 à 17h30 à la salle Madeleine Gelin (16 rue du Pont l’Abbé 79800 La Mothe Saint Héray)\n\n
URL:https://www.aigondigne.fr/evenement/recherche-demploi-local-avec-laipm-et-siti-interim-3/
LOCATION:mairie de Chef Boutonne\, 7 avenue de l'Hôtel de ville\, Chef Boutonne\, Sélectionner un État :\, 79110\, France
CATEGORIES:Emploi/Formation
ATTACH;FMTTYPE=image/jpeg:https://www.aigondigne.fr/wp-content/uploads/2024/01/AFFICHE-Info-co-SITI-AIPM-CBE_page-0001.jpg
ORGANIZER;CN="CBE":MAILTO:secretariat@cbedumellois.fr
END:VEVENT
END:VCALENDAR