BEGIN:VCALENDAR
VERSION:2.0
PRODID:-//Aigondigné - ECPv4.9.14//NONSGML v1.0//EN
CALSCALE:GREGORIAN
METHOD:PUBLISH
X-WR-CALNAME:Aigondigné
X-ORIGINAL-URL:https://www.aigondigne.fr
X-WR-CALDESC:Évènements pour Aigondigné
BEGIN:VTIMEZONE
TZID:Europe/Paris
BEGIN:DAYLIGHT
TZOFFSETFROM:+0100
TZOFFSETTO:+0200
TZNAME:CEST
DTSTART:20260329T010000
END:DAYLIGHT
BEGIN:STANDARD
TZOFFSETFROM:+0200
TZOFFSETTO:+0100
TZNAME:CET
DTSTART:20261025T010000
END:STANDARD
END:VTIMEZONE
BEGIN:VEVENT
DTSTART;TZID=Europe/Paris:20260522T183000
DTEND;TZID=Europe/Paris:20260522T200000
DTSTAMP:20260421T084203
CREATED:20260304T101538Z
LAST-MODIFIED:20260304T101718Z
UID:20054-1779474600-1779480000@www.aigondigne.fr
SUMMARY:Rencontre avec l'auteur de littérature jeunesse et adulte Quentin Fichet
DESCRIPTION:Dans le cadre de « l’Echappée Belle – Enquêtes en bibliothèque » la bibliothèque de Mougon vous ouvre ses portes le vendredi 22 mai à 18h30 pour une rencontre avec l’auteur de littérature jeunesse et adulte Quentin FICHET. \n
URL:https://www.aigondigne.fr/evenement/rencontre-avec-lauteur-de-litterature-jeunesse-et-adulte-quentin-fichet/
LOCATION:Bibliothèque de Mougon\, 15C rue Aurore Dupin\, Aigondigné\, 79370\, France
ATTACH;FMTTYPE=image/jpeg:https://www.aigondigne.fr/wp-content/uploads/2026/03/Affiche-lEchappée-Belle-événement-polar-2026.jpg
ORGANIZER;CN="biblioth%C3%A8que%20d%27Aigondign%C3%A9":MAILTO:bibliotheque@aigondigne.fr
END:VEVENT
END:VCALENDAR