BEGIN:VCALENDAR
VERSION:2.0
PRODID:-//Aigondigné - ECPv4.9.14//NONSGML v1.0//EN
CALSCALE:GREGORIAN
METHOD:PUBLISH
X-WR-CALNAME:Aigondigné
X-ORIGINAL-URL:https://www.aigondigne.fr
X-WR-CALDESC:Évènements pour Aigondigné
BEGIN:VTIMEZONE
TZID:Europe/Paris
BEGIN:DAYLIGHT
TZOFFSETFROM:+0100
TZOFFSETTO:+0200
TZNAME:CEST
DTSTART:20220327T010000
END:DAYLIGHT
BEGIN:STANDARD
TZOFFSETFROM:+0200
TZOFFSETTO:+0100
TZNAME:CET
DTSTART:20221030T010000
END:STANDARD
END:VTIMEZONE
BEGIN:VEVENT
DTSTART;TZID=Europe/Paris:20220611T150000
DTEND;TZID=Europe/Paris:20220611T163000
DTSTAMP:20260421T221623
CREATED:20220524T120229Z
LAST-MODIFIED:20220524T120229Z
UID:10727-1654959600-1654965000@www.aigondigne.fr
SUMMARY:Rencontre littéraire avec Brigitte Soury-Bernard
DESCRIPTION:Entretien et échange avec Brigitte Soury-Bernard. \nGratuit et sans inscription.  \nPour plus d’information CLIQUEZ ICI \n
URL:https://www.aigondigne.fr/evenement/rencontre-litteraire-avec-brigitte-soury-bernard/
LOCATION:Bibliothèque de Thorigné\, 25 rue de l'école\, Thorigné\, Aigondigné\, 79370\, France
ORGANIZER;CN="biblioth%C3%A8que%20d%27Aigondign%C3%A9":MAILTO:bibliotheque@aigondigne.fr
END:VEVENT
END:VCALENDAR