BEGIN:VCALENDAR
VERSION:2.0
PRODID:-//Aigondigné - ECPv4.9.14//NONSGML v1.0//EN
CALSCALE:GREGORIAN
METHOD:PUBLISH
X-WR-CALNAME:Aigondigné
X-ORIGINAL-URL:https://www.aigondigne.fr
X-WR-CALDESC:Évènements pour Aigondigné
BEGIN:VTIMEZONE
TZID:Europe/Paris
BEGIN:DAYLIGHT
TZOFFSETFROM:+0100
TZOFFSETTO:+0200
TZNAME:CEST
DTSTART:20240331T010000
END:DAYLIGHT
BEGIN:STANDARD
TZOFFSETFROM:+0200
TZOFFSETTO:+0100
TZNAME:CET
DTSTART:20241027T010000
END:STANDARD
END:VTIMEZONE
BEGIN:VEVENT
DTSTART;TZID=Europe/Paris:20240314T193000
DTEND;TZID=Europe/Paris:20240314T203000
DTSTAMP:20260421T132053
CREATED:20240312T101225Z
LAST-MODIFIED:20240312T101225Z
UID:15141-1710444600-1710448200@www.aigondigne.fr
SUMMARY:Séances de gym fitness
DESCRIPTION:Le Foyer Rural de Sainte Blandine vous propose des séances de Gym Fitness les jeudis : \n\n14 mars\n11 avril\n9 mai\n13 juin\n\nde 19h30 à 20h30 à la salle des fêtes de Tauché \nGratuit et ouvert à tous \n
URL:https://www.aigondigne.fr/evenement/seances-de-gym-fitness/
LOCATION:salle des fêtes de Tauché\, 1 rue Jacques Bujault\, Sainte Blandine\, 79370\, France
CATEGORIES:Evenement sportif
ATTACH;FMTTYPE=image/jpeg:https://www.aigondigne.fr/wp-content/uploads/2024/03/gym-fitness.jpg
END:VEVENT
END:VCALENDAR