BEGIN:VCALENDAR
VERSION:2.0
PRODID:-//Aigondigné - ECPv4.9.14//NONSGML v1.0//EN
CALSCALE:GREGORIAN
METHOD:PUBLISH
X-WR-CALNAME:Aigondigné
X-ORIGINAL-URL:https://www.aigondigne.fr
X-WR-CALDESC:Évènements pour Aigondigné
BEGIN:VTIMEZONE
TZID:Europe/Paris
BEGIN:DAYLIGHT
TZOFFSETFROM:+0100
TZOFFSETTO:+0200
TZNAME:CEST
DTSTART:20250330T010000
END:DAYLIGHT
BEGIN:STANDARD
TZOFFSETFROM:+0200
TZOFFSETTO:+0100
TZNAME:CET
DTSTART:20251026T010000
END:STANDARD
END:VTIMEZONE
BEGIN:VEVENT
DTSTART;VALUE=DATE:20251117
DTEND;VALUE=DATE:20251118
DTSTAMP:20260423T162256
CREATED:20251029T102409Z
LAST-MODIFIED:20251029T102409Z
UID:19363-1763337600-1763423999@www.aigondigne.fr
SUMMARY:Semaine de l'enfance
DESCRIPTION:Le Département des Deux-Sèvres organise du 17 au 22 novembre 2025 la Semaine de l’enfance. \nAu programme : \n– Séances de lecture \n– Conférence\n– Rencontres auteurs et illustrateurs\n– Lectures vivantes \n– SLAM\n– Jeux \n– Exposition\nDans tous le département.  \nRetrouvez le programme : PROGRAMME_SEMAINE_ENFANCE_ 2025 \n
URL:https://www.aigondigne.fr/evenement/semaine-de-lenfance/
CATEGORIES:Evènement culturel
ATTACH;FMTTYPE=image/jpeg:https://www.aigondigne.fr/wp-content/uploads/2025/10/Capture-d’écran-2025-10-29-112138.jpg
END:VEVENT
END:VCALENDAR