BEGIN:VCALENDAR
VERSION:2.0
PRODID:-//Aigondigné - ECPv4.9.14//NONSGML v1.0//EN
CALSCALE:GREGORIAN
METHOD:PUBLISH
X-WR-CALNAME:Aigondigné
X-ORIGINAL-URL:https://www.aigondigne.fr
X-WR-CALDESC:Évènements pour Aigondigné
BEGIN:VTIMEZONE
TZID:Europe/Paris
BEGIN:DAYLIGHT
TZOFFSETFROM:+0100
TZOFFSETTO:+0200
TZNAME:CEST
DTSTART:20250330T010000
END:DAYLIGHT
BEGIN:STANDARD
TZOFFSETFROM:+0200
TZOFFSETTO:+0100
TZNAME:CET
DTSTART:20251026T010000
END:STANDARD
END:VTIMEZONE
BEGIN:VEVENT
DTSTART;TZID=Europe/Paris:20250918T193000
DTEND;TZID=Europe/Paris:20250918T203000
DTSTAMP:20260423T212514
CREATED:20250324T145718Z
LAST-MODIFIED:20250414T063543Z
UID:17435-1758223800-1758227400@www.aigondigne.fr
SUMMARY:Soirée sportive
DESCRIPTION:Le Foyer Rural de Sainte Blandine vous propose une Séance de Gym Fitness animée par Claire Lefebvre le jeudi 18 septembre 2025 de 19h30 à 20h30. \n
URL:https://www.aigondigne.fr/evenement/soiree-sportive-4/
LOCATION:préau de Tauché\, 26 rue Jacques Bujault\, Tauché\, Aigondigné\, 79370\, France
CATEGORIES:Evenement sportif
ATTACH;FMTTYPE=image/jpeg:https://www.aigondigne.fr/wp-content/uploads/2025/03/Capture-d’écran-2025-03-24-155041.jpg
END:VEVENT
END:VCALENDAR