BEGIN:VCALENDAR
VERSION:2.0
PRODID:-//Aigondigné - ECPv4.9.14//NONSGML v1.0//EN
CALSCALE:GREGORIAN
METHOD:PUBLISH
X-WR-CALNAME:Aigondigné
X-ORIGINAL-URL:https://www.aigondigne.fr
X-WR-CALDESC:Évènements pour Aigondigné
BEGIN:VTIMEZONE
TZID:Europe/Paris
BEGIN:DAYLIGHT
TZOFFSETFROM:+0100
TZOFFSETTO:+0200
TZNAME:CEST
DTSTART:20240331T010000
END:DAYLIGHT
BEGIN:STANDARD
TZOFFSETFROM:+0200
TZOFFSETTO:+0100
TZNAME:CET
DTSTART:20241027T010000
END:STANDARD
END:VTIMEZONE
BEGIN:VEVENT
DTSTART;TZID=Europe/Paris:20240315T193000
DTEND;TZID=Europe/Paris:20240315T230000
DTSTAMP:20260421T113448
CREATED:20240208T135402Z
LAST-MODIFIED:20240212T153447Z
UID:14922-1710531000-1710543600@www.aigondigne.fr
SUMMARY:Théâtre : Du flouze\, du blé\, de l'oseille et des thunes
DESCRIPTION:La troupe Les Grains de Blé est heureuse de vous présenter sa nouvelle pièce \nà la salle des fêtes de Mougon les 15\, 16\, 22 et 23 mars 2024 \nOuverture des portes à 19h et début du spectacle à 20h \nBuvette\, sandwiches et gâteaux sur place \nAdultes 9€ – étudiants 4€ – primaires gratuits \nRéservations par téléphone au 06 17 12 60 88 ou par email sepmougon.lesgrainsdeble@gmail.com  \n
URL:https://www.aigondigne.fr/evenement/theatre-du-flouze-du-ble-de-loseille-et-des-thunes/
LOCATION:salle des fêtes de Mougon\, Place de la mairie\, Mougon\, 79370\, France
CATEGORIES:Evènement culturel
ATTACH;FMTTYPE=image/jpeg:https://www.aigondigne.fr/wp-content/uploads/2024/02/AFFICHE-A3-Grans-de-blé-2024_page-0001.jpg
END:VEVENT
END:VCALENDAR