BEGIN:VCALENDAR
VERSION:2.0
PRODID:-//Aigondigné - ECPv4.9.14//NONSGML v1.0//EN
CALSCALE:GREGORIAN
METHOD:PUBLISH
X-WR-CALNAME:Aigondigné
X-ORIGINAL-URL:https://www.aigondigne.fr
X-WR-CALDESC:Évènements pour Aigondigné
BEGIN:VTIMEZONE
TZID:Europe/Paris
BEGIN:DAYLIGHT
TZOFFSETFROM:+0100
TZOFFSETTO:+0200
TZNAME:CEST
DTSTART:20220327T010000
END:DAYLIGHT
BEGIN:STANDARD
TZOFFSETFROM:+0200
TZOFFSETTO:+0100
TZNAME:CET
DTSTART:20221030T010000
END:STANDARD
END:VTIMEZONE
BEGIN:VEVENT
DTSTART;TZID=Europe/Paris:20220319T200000
DTEND;TZID=Europe/Paris:20220319T220000
DTSTAMP:20260421T083711
CREATED:20220222T100624Z
LAST-MODIFIED:20220222T100624Z
UID:9992-1647720000-1647727200@www.aigondigne.fr
SUMMARY:Théâtre : "Une soirée pyjama"
DESCRIPTION:La troupe de théâtre « Les grains de blé » interprètera une pièce d’Angélique Sutty : Une soirée pyjama \nles vendredi 11 et 18\, et samedis 12 et 19 mars 2022 à 20h \nà la salle des fêtes de Mougon \nLa pièce sera précédée d’une pièce interprétée par les jeunes de la troupe. \nTarifs adultes : 7€ – Etudiants : 3€ – Gratuit pour les enfants de 10 ans et moins \nRéservations au 05 49 05 85 54 ou par email : sepmougon.lesgrainsdeble@gmail.com \n
URL:https://www.aigondigne.fr/evenement/theatre-une-soiree-pyjama-4/
LOCATION:salle des fêtes de Mougon\, Place de la mairie\, Mougon\, 79370\, France
CATEGORIES:Evènement culturel
END:VEVENT
END:VCALENDAR