BEGIN:VCALENDAR
VERSION:2.0
PRODID:-//Aigondigné - ECPv4.9.14//NONSGML v1.0//EN
CALSCALE:GREGORIAN
METHOD:PUBLISH
X-WR-CALNAME:Aigondigné
X-ORIGINAL-URL:https://www.aigondigne.fr
X-WR-CALDESC:Évènements pour Aigondigné
BEGIN:VTIMEZONE
TZID:Europe/Paris
BEGIN:DAYLIGHT
TZOFFSETFROM:+0100
TZOFFSETTO:+0200
TZNAME:CEST
DTSTART:20240331T010000
END:DAYLIGHT
BEGIN:STANDARD
TZOFFSETFROM:+0200
TZOFFSETTO:+0100
TZNAME:CET
DTSTART:20241027T010000
END:STANDARD
END:VTIMEZONE
BEGIN:VEVENT
DTSTART;TZID=Europe/Paris:20240706T100000
DTEND;TZID=Europe/Paris:20240706T120000
DTSTAMP:20260424T182805
CREATED:20240702T091835Z
LAST-MODIFIED:20240702T091835Z
UID:16110-1720260000-1720267200@www.aigondigne.fr
SUMMARY:TROC - DON fournitures de rentrée scolaire
DESCRIPTION:L’association L’R du temps vous propose un TROC – DON pour une rentrée des classes plus éthique. \nDÉPOSE TES FOURNITURES : les 6 et 20 juillet de 10h à 12h au local de l’association à Tauché (ancienne épicerie derrière la salle des fêtes) \nRÉCUPÈRE TES FOURNITURES : les 3 et 24 août de 10h à 12h dans le même local \nPour plus d’informations\, contactez l’association \n
URL:https://www.aigondigne.fr/evenement/troc-don-fournitures-de-rentree-scolaire/
LOCATION:Local L’R du Temps\, rue Jacques Bujault\, Tauché\, Aigondigné\, 79370\, France
ATTACH;FMTTYPE=image/png:https://www.aigondigne.fr/wp-content/uploads/2023/11/LR-du-temps-LOGO-DEFINITIF.png
ORGANIZER;CN="L%27R%20du%20Temps":MAILTO:lrdt.asso@gmail.com
END:VEVENT
END:VCALENDAR