BEGIN:VCALENDAR
VERSION:2.0
PRODID:-//Aigondigné - ECPv4.9.14//NONSGML v1.0//EN
CALSCALE:GREGORIAN
METHOD:PUBLISH
X-WR-CALNAME:Aigondigné
X-ORIGINAL-URL:https://www.aigondigne.fr
X-WR-CALDESC:Évènements pour Aigondigné
BEGIN:VTIMEZONE
TZID:Europe/Paris
BEGIN:DAYLIGHT
TZOFFSETFROM:+0100
TZOFFSETTO:+0200
TZNAME:CEST
DTSTART:20230326T010000
END:DAYLIGHT
BEGIN:STANDARD
TZOFFSETFROM:+0200
TZOFFSETTO:+0100
TZNAME:CET
DTSTART:20231029T010000
END:STANDARD
END:VTIMEZONE
BEGIN:VEVENT
DTSTART;TZID=Europe/Paris:20230430T063000
DTEND;TZID=Europe/Paris:20230430T140000
DTSTAMP:20260424T131349
CREATED:20230328T082558Z
LAST-MODIFIED:20230421T073010Z
UID:12721-1682836200-1682863200@www.aigondigne.fr
SUMMARY:Vide greniers
DESCRIPTION:L’ACCA de Thorigné vous propose un vide grenier le dimanche 30 avril 2023 sur le parking de la salle des fêtes à Thorigné. \nVente par les exposants : 2€ le mètre linéaire avec un minimum de 3m avec ou sans réservation. \nOuverture exposant 6h30 \nRenseignements au 06 99 11 06 21 ou 06 18 90 50 99 \nBuvette\, sandwich\, repas \n \n
URL:https://www.aigondigne.fr/evenement/vide-grenier-4/
LOCATION:Salle des fêtes de Thorigné\, Carrefour de l'ormeau\, Thorigné\, Aigondigné\, 79370\, France
ATTACH;FMTTYPE=image/jpeg:https://www.aigondigne.fr/wp-content/uploads/2023/03/flea-market-g1bf1954f4_1920.jpg
END:VEVENT
END:VCALENDAR