BEGIN:VCALENDAR
VERSION:2.0
PRODID:-//Aigondigné - ECPv4.9.14//NONSGML v1.0//EN
CALSCALE:GREGORIAN
METHOD:PUBLISH
X-WR-CALNAME:Aigondigné
X-ORIGINAL-URL:https://www.aigondigne.fr
X-WR-CALDESC:Évènements pour Aigondigné
BEGIN:VTIMEZONE
TZID:Europe/Paris
BEGIN:DAYLIGHT
TZOFFSETFROM:+0100
TZOFFSETTO:+0200
TZNAME:CEST
DTSTART:20250330T010000
END:DAYLIGHT
BEGIN:STANDARD
TZOFFSETFROM:+0200
TZOFFSETTO:+0100
TZNAME:CET
DTSTART:20251026T010000
END:STANDARD
END:VTIMEZONE
BEGIN:VEVENT
DTSTART;VALUE=DATE:20250831
DTEND;VALUE=DATE:20250901
DTSTAMP:20260424T063054
CREATED:20250624T124414Z
LAST-MODIFIED:20250624T125159Z
UID:18082-1756598400-1756684799@www.aigondigne.fr
SUMMARY:Vide greniers et cul de boeuf
DESCRIPTION:L’AAVM vous invite le dimanche 31 août à Montaillon pour un vide grenier et un cul de boeuf \n
URL:https://www.aigondigne.fr/evenement/vide-greniers-et-cul-de-boeuf/
LOCATION:Montaillon\, Montaillon\, Aigondigné\, 79370\, France
CATEGORIES:Marché/brocante/vide-greniers
ATTACH;FMTTYPE=image/jpeg:https://www.aigondigne.fr/wp-content/uploads/2025/02/Brocante.jpg
END:VEVENT
END:VCALENDAR